BEGIN:VCALENDAR
VERSION:2.0
PRODID:-//demosphere.net//NONSGML kigkonsult.se iCalcreator 2.22.1//
METHOD:REQUEST
X-WR-TIMEZONE:Europe/Paris
BEGIN:VEVENT
UID:https://strasbourgfurieuse.demosphere.net/rv/9282
DTSTAMP:20260601T140000Z
DESCRIPTION:plus d'infos sur : https://strasbourgfurieuse.demosphere.net/rv
 /9282
DTSTART:20260601T140000Z
DTEND:20260601T150000Z
GEO:+48.581687;+7.753297
LOCATION:Centre\, \nLa Station \n7\, rue des écrivains \n67000 Strasbourg
SUMMARY:Cours de français pour le public LGBTQIA+
URL:https://strasbourgfurieuse.demosphere.net/rv/9282
END:VEVENT
END:VCALENDAR
