BEGIN:VCALENDAR
VERSION:2.0
PRODID:-//demosphere.net//NONSGML kigkonsult.se iCalcreator 2.22.1//
METHOD:REQUEST
X-WR-TIMEZONE:Europe/Paris
BEGIN:VEVENT
UID:https://strasbourgfurieuse.demosphere.net/rv/9281
DTSTAMP:20260517T110000Z
DESCRIPTION:plus d'infos sur : https://strasbourgfurieuse.demosphere.net/rv
 /9281
DTSTART:20260517T110000Z
DTEND:20260517T120000Z
LOCATION:Strasbourg\, \nOn ne sait pas pour l'instant
SUMMARY:ATELIERS MIX/DJ'ING
URL:https://strasbourgfurieuse.demosphere.net/rv/9281
END:VEVENT
END:VCALENDAR
