BEGIN:VCALENDAR
VERSION:2.0
PRODID:-//demosphere.net//NONSGML kigkonsult.se iCalcreator 2.22.1//
METHOD:REQUEST
X-WR-TIMEZONE:Europe/Paris
BEGIN:VEVENT
UID:https://strasbourgfurieuse.demosphere.net/rv/9280
DTSTAMP:20260425T110000Z
DESCRIPTION:plus d'infos sur : https://strasbourgfurieuse.demosphere.net/rv
 /9280
DTSTART:20260425T110000Z
DTEND:20260425T120000Z
LOCATION:67000 Strasbourg\, \nKulture 9 quai des Bateliers
SUMMARY:ATELIERS MIX/DJ'ING & TECHNIQUE DU SON FINTA
URL:https://strasbourgfurieuse.demosphere.net/rv/9280
END:VEVENT
END:VCALENDAR
