BEGIN:VCALENDAR
VERSION:2.0
PRODID:-//demosphere.net//NONSGML kigkonsult.se iCalcreator 2.22.1//
METHOD:REQUEST
X-WR-TIMEZONE:Europe/Paris
BEGIN:VEVENT
UID:https://strasbourgfurieuse.demosphere.net/rv/9279
DTSTAMP:20260531T160000Z
DESCRIPTION:plus d'infos sur : https://strasbourgfurieuse.demosphere.net/rv
 /9279
DTSTART:20260531T160000Z
DTEND:20260531T170000Z
GEO:+48.581687;+7.753297
LOCATION:Centre\, \nLa Station \n7\, rue des écrivains \n67000 Strasbourg
SUMMARY:[La Station] Permanences CATS en non-mixité entres personnes en dém
 arches de transition
URL:https://strasbourgfurieuse.demosphere.net/rv/9279
END:VEVENT
END:VCALENDAR
