BEGIN:VCALENDAR
VERSION:2.0
PRODID:-//demosphere.net//NONSGML kigkonsult.se iCalcreator 2.22.1//
METHOD:REQUEST
X-WR-TIMEZONE:Europe/Paris
BEGIN:VEVENT
UID:https://strasbourgfurieuse.demosphere.net/rv/9277
DTSTAMP:20260426T120000Z
DESCRIPTION:plus d'infos sur : https://strasbourgfurieuse.demosphere.net/rv
 /9277
DTSTART:20260426T120000Z
DTEND:20260426T130000Z
GEO:+48.568913;+7.734693
LOCATION:Elsau\, \nL'Orée 85 \n32 impasse de l'Ecluse \n67000 Strasbourg
SUMMARY:BRICOLAGE A L'ORÉE 85
URL:https://strasbourgfurieuse.demosphere.net/rv/9277
END:VEVENT
END:VCALENDAR
