BEGIN:VCALENDAR
VERSION:2.0
PRODID:-//demosphere.net//NONSGML kigkonsult.se iCalcreator 2.22.1//
METHOD:REQUEST
X-WR-TIMEZONE:Europe/Paris
BEGIN:VEVENT
UID:https://strasbourgfurieuse.demosphere.net/rv/9276
DTSTAMP:20260505T140000Z
DESCRIPTION:plus d'infos sur : https://strasbourgfurieuse.demosphere.net/rv
 /9276
DTSTART:20260505T140000Z
DTEND:20260505T150000Z
GEO:+48.57397;+7.764063
LOCATION:Strasbourg\, \nLe Shadok \n25 presqu'île André Malraux \n67100 Str
 asbourg
SUMMARY:Adopter les écogestes numériques | La CyberGrange
URL:https://strasbourgfurieuse.demosphere.net/rv/9276
END:VEVENT
END:VCALENDAR
