BEGIN:VCALENDAR
VERSION:2.0
PRODID:-//demosphere.net//NONSGML kigkonsult.se iCalcreator 2.22.1//
METHOD:REQUEST
X-WR-TIMEZONE:Europe/Paris
BEGIN:VEVENT
UID:https://strasbourgfurieuse.demosphere.net/rv/9273
DTSTAMP:20260430T080000Z
DESCRIPTION:plus d'infos sur : https://strasbourgfurieuse.demosphere.net/rv
 /9273
DTSTART:20260430T080000Z
DTEND:20260430T090000Z
GEO:+48.57397;+7.764063
LOCATION:Strasbourg\, \nLe Shadok \n25 presqu'île André Malraux \n67100 Str
 asbourg
SUMMARY:Internet sans risques | Conseiller·ères numériques
URL:https://strasbourgfurieuse.demosphere.net/rv/9273
END:VEVENT
END:VCALENDAR
