BEGIN:VCALENDAR
VERSION:2.0
PRODID:-//demosphere.net//NONSGML kigkonsult.se iCalcreator 2.22.1//
METHOD:REQUEST
X-WR-TIMEZONE:Europe/Paris
BEGIN:VEVENT
UID:https://strasbourgfurieuse.demosphere.net/rv/9270
DTSTAMP:20260422T140000Z
DESCRIPTION:plus d'infos sur : https://strasbourgfurieuse.demosphere.net/rv
 /9270
DTSTART:20260422T140000Z
DTEND:20260422T150000Z
GEO:+48.583944;+7.737667
LOCATION:Gare\, \nBar La Perestroïka \n2\, rue Thiergarten \n67000 Strasbou
 rg
SUMMARY:Collectif précaires RSA/AAH
URL:https://strasbourgfurieuse.demosphere.net/rv/9270
END:VEVENT
END:VCALENDAR
