BEGIN:VCALENDAR
VERSION:2.0
PRODID:-//demosphere.net//NONSGML kigkonsult.se iCalcreator 2.22.1//
METHOD:REQUEST
X-WR-TIMEZONE:Europe/Paris
BEGIN:VEVENT
UID:https://strasbourgfurieuse.demosphere.net/rv/9266
DTSTAMP:20260603T070000Z
DESCRIPTION:plus d'infos sur : https://strasbourgfurieuse.demosphere.net/rv
 /9266
DTSTART:20260603T070000Z
DTEND:20260603T080000Z
GEO:+48.576821;+7.753346
LOCATION:Etoile Bourse\, \nMaison des syndicats \n1 Rue Sédillot\, 67000 St
 rasbourg\, France
SUMMARY:Riposte syndicale contre l'extrême-droite - Formation intersyndical
 e
URL:https://strasbourgfurieuse.demosphere.net/rv/9266
END:VEVENT
END:VCALENDAR
