BEGIN:VCALENDAR
VERSION:2.0
PRODID:-//demosphere.net//NONSGML kigkonsult.se iCalcreator 2.22.1//
METHOD:REQUEST
X-WR-TIMEZONE:Europe/Paris
BEGIN:VEVENT
UID:https://strasbourgfurieuse.demosphere.net/rv/9264
DTSTAMP:20260429T170000Z
DESCRIPTION:plus d'infos sur : https://strasbourgfurieuse.demosphere.net/rv
 /9264
DTSTART:20260429T170000Z
DTEND:20260429T180000Z
LOCATION:Gare\, \nLe lieu documentaire\, Maison de l'image\, 31 rue Kagenec
 k\, 67000 Strasbourg
SUMMARY:« Douvan jou ka levé (Le jour se lèvera) » - Haïti\, regards intime
 s - projection et rencontre
URL:https://strasbourgfurieuse.demosphere.net/rv/9264
END:VEVENT
END:VCALENDAR
