BEGIN:VCALENDAR
VERSION:2.0
PRODID:-//demosphere.net//NONSGML kigkonsult.se iCalcreator 2.22.1//
METHOD:REQUEST
X-WR-TIMEZONE:Europe/Paris
BEGIN:VEVENT
UID:https://strasbourgfurieuse.demosphere.net/rv/9263
DTSTAMP:20260424T180000Z
DESCRIPTION:plus d'infos sur : https://strasbourgfurieuse.demosphere.net/rv
 /9263
DTSTART:20260424T180000Z
DTEND:20260424T190000Z
GEO:+48.58616;+7.738725
LOCATION:Strasbourg Gare\, \nlieu Documentaire - Maison de l'image \n31 Rue
  Kageneck\, 67000 Strasbourg\, France
SUMMARY:Ciné-débat autour du film « Sols couverts d’espoir » de Éléonore de
  Lambertye
URL:https://strasbourgfurieuse.demosphere.net/rv/9263
END:VEVENT
END:VCALENDAR
