BEGIN:VCALENDAR
VERSION:2.0
PRODID:-//demosphere.net//NONSGML kigkonsult.se iCalcreator 2.22.1//
METHOD:REQUEST
X-WR-TIMEZONE:Europe/Paris
BEGIN:VEVENT
UID:https://strasbourgfurieuse.demosphere.net/rv/9261
DTSTAMP:20260426T143000Z
DESCRIPTION:plus d'infos sur : https://strasbourgfurieuse.demosphere.net/rv
 /9261
DTSTART:20260426T143000Z
DTEND:20260426T153000Z
GEO:+48.575572;+7.72932
LOCATION:Gare\, \nMolodoï \n19 Rue du Ban-de-la-Roche\, 67000 Strasbourg
SUMMARY:La chèvre - Nous ne serons plus patients
URL:https://strasbourgfurieuse.demosphere.net/rv/9261
END:VEVENT
END:VCALENDAR
