BEGIN:VCALENDAR
VERSION:2.0
PRODID:-//demosphere.net//NONSGML kigkonsult.se iCalcreator 2.22.1//
METHOD:REQUEST
X-WR-TIMEZONE:Europe/Paris
BEGIN:VEVENT
UID:https://strasbourgfurieuse.demosphere.net/rv/9260
DTSTAMP:20260426T120000Z
DESCRIPTION:plus d'infos sur : https://strasbourgfurieuse.demosphere.net/rv
 /9260
DTSTART:20260426T120000Z
DTEND:20260426T130000Z
GEO:+48.575572;+7.72932
LOCATION:Gare\, \nMolodoï \n19 Rue du Ban-de-la-Roche\, 67000 Strasbourg
SUMMARY:La Chèvre - Quand je n'écris pas
URL:https://strasbourgfurieuse.demosphere.net/rv/9260
END:VEVENT
END:VCALENDAR
