BEGIN:VCALENDAR
VERSION:2.0
PRODID:-//demosphere.net//NONSGML kigkonsult.se iCalcreator 2.22.1//
METHOD:REQUEST
X-WR-TIMEZONE:Europe/Paris
BEGIN:VEVENT
UID:https://strasbourgfurieuse.demosphere.net/rv/9251
DTSTAMP:20260423T194500Z
DESCRIPTION:plus d'infos sur : https://strasbourgfurieuse.demosphere.net/rv
 /9251
DTSTART:20260423T194500Z
DTEND:20260423T204500Z
GEO:+48.582644;+7.745956
LOCATION:Centre\, \nCinéma le Cosmos \n3 Rue des Francs-Bourgeois\, 67000 S
 trasbourg\, France
SUMMARY:FÉMIGOUIN’FEST 2026 | CINÉ-DÉBAT : Dreamers
URL:https://strasbourgfurieuse.demosphere.net/rv/9251
END:VEVENT
END:VCALENDAR
