BEGIN:VCALENDAR
VERSION:2.0
PRODID:-//demosphere.net//NONSGML kigkonsult.se iCalcreator 2.22.1//
METHOD:REQUEST
X-WR-TIMEZONE:Europe/Paris
BEGIN:VEVENT
UID:https://strasbourgfurieuse.demosphere.net/rv/9249
DTSTAMP:20260421T190000Z
DESCRIPTION:plus d'infos sur : https://strasbourgfurieuse.demosphere.net/rv
 /9249
DTSTART:20260421T190000Z
DTEND:20260421T200000Z
GEO:+48.582644;+7.745956
LOCATION:Centre\, \nCinéma le Cosmos \n3 Rue des Francs-Bourgeois\, 67000 S
 trasbourg\, France
SUMMARY:FÉMIGOUIN’FEST 2026 | FOCUS IRAN : Between Dreams and Hope
URL:https://strasbourgfurieuse.demosphere.net/rv/9249
END:VEVENT
END:VCALENDAR
