BEGIN:VCALENDAR
VERSION:2.0
PRODID:-//demosphere.net//NONSGML kigkonsult.se iCalcreator 2.22.1//
METHOD:REQUEST
X-WR-TIMEZONE:Europe/Paris
BEGIN:VEVENT
UID:https://strasbourgfurieuse.demosphere.net/rv/9194
DTSTAMP:20260515T170000Z
DESCRIPTION:plus d'infos sur : https://strasbourgfurieuse.demosphere.net/rv
 /9194
DTSTART:20260515T170000Z
DTEND:20260515T180000Z
LOCATION:Hautepierre\, \nLa Moquetterie \n8 rue Thomas Mann \n67200 Strasbo
 urg
SUMMARY:[NOUVEAU LIEU] La stammtisch de la Hackstub - Émancipation technolo
 gique
URL:https://strasbourgfurieuse.demosphere.net/rv/9194
END:VEVENT
END:VCALENDAR
