BEGIN:VCALENDAR
VERSION:2.0
PRODID:-//demosphere.net//NONSGML kigkonsult.se iCalcreator 2.22.1//
METHOD:REQUEST
X-WR-TIMEZONE:Europe/Paris
BEGIN:VEVENT
UID:https://strasbourgfurieuse.demosphere.net/rv/9191
DTSTAMP:20260501T100000Z
DESCRIPTION:plus d'infos sur : https://strasbourgfurieuse.demosphere.net/rv
 /9191
DTSTART:20260501T100000Z
DTEND:20260501T110000Z
GEO:+48.578899;+7.754118
LOCATION:Strasbourg\, \n1 Place des Orphelins\, 67000 Strasbourg\, France
SUMMARY:FÊTE ANTICAPITALISTE - NPA
URL:https://strasbourgfurieuse.demosphere.net/rv/9191
END:VEVENT
END:VCALENDAR
