BEGIN:VCALENDAR
VERSION:2.0
PRODID:-//demosphere.net//NONSGML kigkonsult.se iCalcreator 2.22.1//
METHOD:REQUEST
X-WR-TIMEZONE:Europe/Paris
BEGIN:VEVENT
UID:https://strasbourgfurieuse.demosphere.net/rv/9188
DTSTAMP:20260513T160000Z
DESCRIPTION:plus d'infos sur : https://strasbourgfurieuse.demosphere.net/rv
 /9188
DTSTART:20260513T160000Z
DTEND:20260513T170000Z
GEO:+48.581687;+7.753297
LOCATION:Centre\, \nLa Station \n7\, rue des écrivains \n67000 Strasbourg
SUMMARY:Permanences Médiathèque à la Station - centre LGBTI
URL:https://strasbourgfurieuse.demosphere.net/rv/9188
END:VEVENT
END:VCALENDAR
