BEGIN:VCALENDAR
VERSION:2.0
PRODID:-//demosphere.net//NONSGML kigkonsult.se iCalcreator 2.22.1//
METHOD:REQUEST
X-WR-TIMEZONE:Europe/Paris
BEGIN:VEVENT
UID:https://strasbourgfurieuse.demosphere.net/rv/9171
DTSTAMP:20260511T163000Z
DESCRIPTION:plus d'infos sur : https://strasbourgfurieuse.demosphere.net/rv
 /9171
DTSTART:20260511T163000Z
DTEND:20260511T173000Z
GEO:+48.581687;+7.753297
LOCATION:Centre\, \nLa Station \n7\, rue des écrivains \n67000 Strasbourg
SUMMARY:Cafés de La Nouvelle Lune en non mixité femmes\, lesbiennes\, saphi
 ques\, gouines
URL:https://strasbourgfurieuse.demosphere.net/rv/9171
END:VEVENT
END:VCALENDAR
