BEGIN:VCALENDAR
VERSION:2.0
PRODID:-//demosphere.net//NONSGML kigkonsult.se iCalcreator 2.22.1//
METHOD:REQUEST
X-WR-TIMEZONE:Europe/Paris
BEGIN:VEVENT
UID:https://strasbourgfurieuse.demosphere.net/rv/9152
DTSTAMP:20260510T160000Z
DESCRIPTION:plus d'infos sur : https://strasbourgfurieuse.demosphere.net/rv
 /9152
DTSTART:20260510T160000Z
DTEND:20260510T170000Z
GEO:+48.581687;+7.753297
LOCATION:Centre\, \nLa Station \n7\, rue des écrivains \n67000 Strasbourg
SUMMARY:[La Station] Permanences CATS en non-mixité entres personnes en dém
 arches de transition
URL:https://strasbourgfurieuse.demosphere.net/rv/9152
END:VEVENT
END:VCALENDAR
