BEGIN:VCALENDAR
VERSION:2.0
PRODID:-//demosphere.net//NONSGML kigkonsult.se iCalcreator 2.22.1//
METHOD:REQUEST
X-WR-TIMEZONE:Europe/Paris
BEGIN:VEVENT
UID:https://strasbourgfurieuse.demosphere.net/rv/8994
DTSTAMP:20260415T173000Z
DESCRIPTION:plus d'infos sur : https://strasbourgfurieuse.demosphere.net/rv
 /8994
DTSTART:20260415T173000Z
DTEND:20260415T183000Z
GEO:+48.583148;+7.737128
LOCATION:strabourg\, \nMaison de l'Amérique latine\, 7 rue de la course
SUMMARY: regard trans dans 'La vida es un Carnaval\,' un film mexicain 
URL:https://strasbourgfurieuse.demosphere.net/rv/8994
END:VEVENT
END:VCALENDAR
