BEGIN:VCALENDAR
VERSION:2.0
PRODID:-//demosphere.net//NONSGML kigkonsult.se iCalcreator 2.22.1//
METHOD:REQUEST
X-WR-TIMEZONE:Europe/Paris
BEGIN:VEVENT
UID:https://strasbourgfurieuse.demosphere.net/rv/3882
DTSTAMP:20221013T180000Z
DESCRIPTION:plus d'infos sur : https://strasbourgfurieuse.demosphere.net/rv
 /3882
DTSTART:20221013T180000Z
DTEND:20221013T190000Z
LOCATION:67000 Strasbourg\, \nKulture 9 quai des Bateliers
SUMMARY:Soirée Lancement Cendres#2 Boum Boum Chicks Chicks
URL:https://strasbourgfurieuse.demosphere.net/rv/3882
END:VEVENT
END:VCALENDAR
